BEGIN:VCALENDAR
VERSION:2.0
PRODID:-//eventon.com NONSGML v1.0//EN
BEGIN:VEVENT
UID:69eabb3cc0753
DTSTAMP:20260424T003716
DTSTART:20260426T170000Z
DTEND:20260426T200000Z
LOCATION:
SUMMARY:STARFISH: The Final Wave!
DESCRIPTION: Our filmmaker and content creator here at Satire is producing a feature film! Not only have we produced a few Satire Short Films with him\,  but we love the wacky and unique work Micah has brought to Satire.&nbsp; Come join us on&nbsp;April 26th from 5:00pm-8:00pm&nbsp;as he celebrates the closing of[..]
END:VEVENT
END:VCALENDAR