BEGIN:VCALENDAR
VERSION:2.0
PRODID:-//eventon.com NONSGML v1.0//EN
BEGIN:VEVENT
UID:69eaba8ced7c4
DTSTAMP:20260424T003420
DTSTART:20260424T170000Z
DTEND:20260424T200000Z
LOCATION:
SUMMARY:RYAN ON THE ROCKS #4
DESCRIPTION: RYAN ON THE ROCKS #4 Ryan on the Rocks is continuing in April! Expect expertly crafted cocktails\,  playful flavor twists\,  and fun conversation. This &nbsp;event marks the 4th custom cocktail nights with Ryan Flaming at Satire. Come THIRSTY!&nbsp; &nbsp;April 24 &nbsp;5:00 PM – 8:00 PM (or until sold out) &nbsp;The[..]
END:VEVENT
END:VCALENDAR